BEGIN:VCALENDAR
VERSION:2.0
PRODID:-//Centre d&#039;histoire et de prospective militaires (CHPM) - ECPv6.15.18//NONSGML v1.0//EN
CALSCALE:GREGORIAN
METHOD:PUBLISH
X-ORIGINAL-URL:https://chpm.ch
X-WR-CALDESC:Évènements pour Centre d&#039;histoire et de prospective militaires (CHPM)
REFRESH-INTERVAL;VALUE=DURATION:PT1H
X-Robots-Tag:noindex
X-PUBLISHED-TTL:PT1H
BEGIN:VTIMEZONE
TZID:Europe/Zurich
BEGIN:DAYLIGHT
TZOFFSETFROM:+0100
TZOFFSETTO:+0200
TZNAME:CEST
DTSTART:20250330T010000
END:DAYLIGHT
BEGIN:STANDARD
TZOFFSETFROM:+0200
TZOFFSETTO:+0100
TZNAME:CET
DTSTART:20251026T010000
END:STANDARD
BEGIN:DAYLIGHT
TZOFFSETFROM:+0100
TZOFFSETTO:+0200
TZNAME:CEST
DTSTART:20260329T010000
END:DAYLIGHT
BEGIN:STANDARD
TZOFFSETFROM:+0200
TZOFFSETTO:+0100
TZNAME:CET
DTSTART:20261025T010000
END:STANDARD
BEGIN:DAYLIGHT
TZOFFSETFROM:+0100
TZOFFSETTO:+0200
TZNAME:CEST
DTSTART:20270328T010000
END:DAYLIGHT
BEGIN:STANDARD
TZOFFSETFROM:+0200
TZOFFSETTO:+0100
TZNAME:CET
DTSTART:20271031T010000
END:STANDARD
END:VTIMEZONE
BEGIN:VEVENT
DTSTART;TZID=Europe/Zurich:20260425T090000
DTEND;TZID=Europe/Zurich:20260425T170000
DTSTAMP:20260425T170651
CREATED:20251126T134053Z
LAST-MODIFIED:20251126T134053Z
UID:10000168-1777107600-1777136400@chpm.ch
SUMMARY:Wargaming Coastal Asymmetry\, wargame contemporain
DESCRIPTION:
URL:https://chpm.ch/event/wargaming-coastal-asymmetry-wargame-contemporain/
LOCATION:Centre Général Guisan\, Avenue Général Guisan 117-119\, Pully\, 1009\, Suisse
CATEGORIES:Wargame
ORGANIZER;CN="CHPM":MAILTO:info@chpm.ch
GEO:46.5063149;6.6446847
X-APPLE-STRUCTURED-LOCATION;VALUE=URI;X-ADDRESS=Centre Général Guisan Avenue Général Guisan 117-119 Pully 1009 Suisse;X-APPLE-RADIUS=500;X-TITLE=Avenue Général Guisan 117-119:geo:6.6446847,46.5063149
END:VEVENT
BEGIN:VEVENT
DTSTART;TZID=Europe/Zurich:20260530T090000
DTEND;TZID=Europe/Zurich:20260530T170000
DTSTAMP:20260425T170651
CREATED:20251126T134119Z
LAST-MODIFIED:20251126T134119Z
UID:10000169-1780131600-1780160400@chpm.ch
SUMMARY:Wargaming a Baltics Scenario\, wargame prospectif
DESCRIPTION:
URL:https://chpm.ch/event/wargaming-a-baltics-scenario-wargame-prospectif/
LOCATION:Centre Général Guisan\, Avenue Général Guisan 117-119\, Pully\, 1009\, Suisse
CATEGORIES:Wargame
ORGANIZER;CN="CHPM":MAILTO:info@chpm.ch
GEO:46.5063149;6.6446847
X-APPLE-STRUCTURED-LOCATION;VALUE=URI;X-ADDRESS=Centre Général Guisan Avenue Général Guisan 117-119 Pully 1009 Suisse;X-APPLE-RADIUS=500;X-TITLE=Avenue Général Guisan 117-119:geo:6.6446847,46.5063149
END:VEVENT
BEGIN:VEVENT
DTSTART;VALUE=DATE:20260919
DTEND;VALUE=DATE:20260921
DTSTAMP:20260425T170651
CREATED:20251126T132157Z
LAST-MODIFIED:20251126T132157Z
UID:10000160-1789776000-1789948799@chpm.ch
SUMMARY:Wargame Connections Suisse 2026 (WCS26)\, 4th edition\, selon invitation spécifique
DESCRIPTION:
URL:https://chpm.ch/event/wargame-connections-suisse-2026-wcs26-4th-edition-selon-invitation-specifique/
LOCATION:Centre Général Guisan\, Avenue Général Guisan 117-119\, Pully\, 1009\, Suisse
CATEGORIES:Wargame
ORGANIZER;CN="CHPM":MAILTO:info@chpm.ch
GEO:46.5063149;6.6446847
X-APPLE-STRUCTURED-LOCATION;VALUE=URI;X-ADDRESS=Centre Général Guisan Avenue Général Guisan 117-119 Pully 1009 Suisse;X-APPLE-RADIUS=500;X-TITLE=Avenue Général Guisan 117-119:geo:6.6446847,46.5063149
END:VEVENT
BEGIN:VEVENT
DTSTART;TZID=Europe/Zurich:20261017T090000
DTEND;TZID=Europe/Zurich:20261017T170000
DTSTAMP:20260425T170651
CREATED:20251126T132630Z
LAST-MODIFIED:20260102T170954Z
UID:10000161-1792227600-1792256400@chpm.ch
SUMMARY:Wargaming Competition : The Artic Environment\, wargame prospectif
DESCRIPTION:
URL:https://chpm.ch/event/wargaming-competition-the-artic-environment-wargame-prospectif/
LOCATION:Centre Général Guisan\, Avenue Général Guisan 117-119\, Pully\, 1009\, Suisse
CATEGORIES:Wargame
ORGANIZER;CN="CHPM":MAILTO:info@chpm.ch
GEO:46.5063149;6.6446847
X-APPLE-STRUCTURED-LOCATION;VALUE=URI;X-ADDRESS=Centre Général Guisan Avenue Général Guisan 117-119 Pully 1009 Suisse;X-APPLE-RADIUS=500;X-TITLE=Avenue Général Guisan 117-119:geo:6.6446847,46.5063149
END:VEVENT
BEGIN:VEVENT
DTSTART;TZID=Europe/Zurich:20261031T090000
DTEND;TZID=Europe/Zurich:20261031T170000
DTSTAMP:20260425T170651
CREATED:20251126T132710Z
LAST-MODIFIED:20251126T132710Z
UID:10000162-1793437200-1793466000@chpm.ch
SUMMARY:Wargaming Ukraine: Drones and Infantry Infiltration\, wargame contemporain
DESCRIPTION:
URL:https://chpm.ch/event/wargaming-ukraine-drones-and-infantry-infiltration-wargame-contemporain/
LOCATION:Centre Général Guisan\, Avenue Général Guisan 117-119\, Pully\, 1009\, Suisse
CATEGORIES:Wargame
ORGANIZER;CN="CHPM":MAILTO:info@chpm.ch
GEO:46.5063149;6.6446847
X-APPLE-STRUCTURED-LOCATION;VALUE=URI;X-ADDRESS=Centre Général Guisan Avenue Général Guisan 117-119 Pully 1009 Suisse;X-APPLE-RADIUS=500;X-TITLE=Avenue Général Guisan 117-119:geo:6.6446847,46.5063149
END:VEVENT
BEGIN:VEVENT
DTSTART;TZID=Europe/Zurich:20261114T090000
DTEND;TZID=Europe/Zurich:20261114T170000
DTSTAMP:20260425T170651
CREATED:20251126T132748Z
LAST-MODIFIED:20251126T132748Z
UID:10000163-1794646800-1794675600@chpm.ch
SUMMARY:Wargaming Long-Range Missile Duels\, wargame contemporain
DESCRIPTION:
URL:https://chpm.ch/event/wargaming-long-range-missile-duels-wargame-contemporain/
LOCATION:Centre Général Guisan\, Avenue Général Guisan 117-119\, Pully\, 1009\, Suisse
CATEGORIES:Wargame
ORGANIZER;CN="CHPM":MAILTO:info@chpm.ch
GEO:46.5063149;6.6446847
X-APPLE-STRUCTURED-LOCATION;VALUE=URI;X-ADDRESS=Centre Général Guisan Avenue Général Guisan 117-119 Pully 1009 Suisse;X-APPLE-RADIUS=500;X-TITLE=Avenue Général Guisan 117-119:geo:6.6446847,46.5063149
END:VEVENT
BEGIN:VEVENT
DTSTART;TZID=Europe/Zurich:20261128T090000
DTEND;TZID=Europe/Zurich:20261128T170000
DTSTAMP:20260425T170651
CREATED:20251126T132818Z
LAST-MODIFIED:20251126T132818Z
UID:10000164-1795856400-1795885200@chpm.ch
SUMMARY:Wargaming Large Scale Combat Operations: The Cold War\, wargame historique
DESCRIPTION:
URL:https://chpm.ch/event/wargaming-large-scale-combat-operations-the-cold-war-wargame-historique/
LOCATION:Centre Général Guisan\, Avenue Général Guisan 117-119\, Pully\, 1009\, Suisse
CATEGORIES:Wargame
ORGANIZER;CN="CHPM":MAILTO:info@chpm.ch
GEO:46.5063149;6.6446847
X-APPLE-STRUCTURED-LOCATION;VALUE=URI;X-ADDRESS=Centre Général Guisan Avenue Général Guisan 117-119 Pully 1009 Suisse;X-APPLE-RADIUS=500;X-TITLE=Avenue Général Guisan 117-119:geo:6.6446847,46.5063149
END:VEVENT
END:VCALENDAR