BEGIN:VCALENDAR
VERSION:2.0
PRODID:-//Centre d&#039;histoire et de prospective militaires (CHPM) - ECPv6.15.18//NONSGML v1.0//EN
CALSCALE:GREGORIAN
METHOD:PUBLISH
X-ORIGINAL-URL:https://chpm.ch
X-WR-CALDESC:Évènements pour Centre d&#039;histoire et de prospective militaires (CHPM)
REFRESH-INTERVAL;VALUE=DURATION:PT1H
X-Robots-Tag:noindex
X-PUBLISHED-TTL:PT1H
BEGIN:VTIMEZONE
TZID:Europe/Zurich
BEGIN:DAYLIGHT
TZOFFSETFROM:+0100
TZOFFSETTO:+0200
TZNAME:CEST
DTSTART:20230326T010000
END:DAYLIGHT
BEGIN:STANDARD
TZOFFSETFROM:+0200
TZOFFSETTO:+0100
TZNAME:CET
DTSTART:20231029T010000
END:STANDARD
BEGIN:DAYLIGHT
TZOFFSETFROM:+0100
TZOFFSETTO:+0200
TZNAME:CEST
DTSTART:20240331T010000
END:DAYLIGHT
BEGIN:STANDARD
TZOFFSETFROM:+0200
TZOFFSETTO:+0100
TZNAME:CET
DTSTART:20241027T010000
END:STANDARD
BEGIN:DAYLIGHT
TZOFFSETFROM:+0100
TZOFFSETTO:+0200
TZNAME:CEST
DTSTART:20250330T010000
END:DAYLIGHT
BEGIN:STANDARD
TZOFFSETFROM:+0200
TZOFFSETTO:+0100
TZNAME:CET
DTSTART:20251026T010000
END:STANDARD
END:VTIMEZONE
BEGIN:VEVENT
DTSTART;TZID=Europe/Zurich:20241102T090000
DTEND;TZID=Europe/Zurich:20241102T170000
DTSTAMP:20260425T181501
CREATED:20231204T082210Z
LAST-MODIFIED:20231204T082335Z
UID:10000123-1730538000-1730566800@chpm.ch
SUMMARY:Multidomain Operations\, wargame opératif
DESCRIPTION:Inscription par email à infowargame@protonmail.ch (1-2 semaines en avance).
URL:https://chpm.ch/event/multidomain-operations-wargame-operatif/
LOCATION:Centre Général Guisan\, Avenue Général Guisan 117-119\, Pully\, 1009\, Suisse
CATEGORIES:Wargame
ORGANIZER;CN="CHPM":MAILTO:info@chpm.ch
GEO:46.5063149;6.6446847
X-APPLE-STRUCTURED-LOCATION;VALUE=URI;X-ADDRESS=Centre Général Guisan Avenue Général Guisan 117-119 Pully 1009 Suisse;X-APPLE-RADIUS=500;X-TITLE=Avenue Général Guisan 117-119:geo:6.6446847,46.5063149
END:VEVENT
BEGIN:VEVENT
DTSTART;TZID=Europe/Zurich:20241116T090000
DTEND;TZID=Europe/Zurich:20241116T170000
DTSTAMP:20260425T181501
CREATED:20231204T082245Z
LAST-MODIFIED:20231204T082337Z
UID:10000124-1731747600-1731776400@chpm.ch
SUMMARY:Opération « SEELÖWE»\, wargame historique
DESCRIPTION:Inscription par email à infowargame@protonmail.ch (1-2 semaines en avance).
URL:https://chpm.ch/event/operation-seelowe-wargame-historique/
LOCATION:Centre Général Guisan\, Avenue Général Guisan 117-119\, Pully\, 1009\, Suisse
CATEGORIES:Wargame
ORGANIZER;CN="CHPM":MAILTO:info@chpm.ch
GEO:46.5063149;6.6446847
X-APPLE-STRUCTURED-LOCATION;VALUE=URI;X-ADDRESS=Centre Général Guisan Avenue Général Guisan 117-119 Pully 1009 Suisse;X-APPLE-RADIUS=500;X-TITLE=Avenue Général Guisan 117-119:geo:6.6446847,46.5063149
END:VEVENT
END:VCALENDAR