BEGIN:VCALENDAR
VERSION:2.0
PRODID:-//Centre d&#039;histoire et de prospective militaires (CHPM) - ECPv6.15.18//NONSGML v1.0//EN
CALSCALE:GREGORIAN
METHOD:PUBLISH
X-ORIGINAL-URL:https://chpm.ch
X-WR-CALDESC:Évènements pour Centre d&#039;histoire et de prospective militaires (CHPM)
REFRESH-INTERVAL;VALUE=DURATION:PT1H
X-Robots-Tag:noindex
X-PUBLISHED-TTL:PT1H
BEGIN:VTIMEZONE
TZID:Europe/Zurich
BEGIN:DAYLIGHT
TZOFFSETFROM:+0100
TZOFFSETTO:+0200
TZNAME:CEST
DTSTART:20220327T010000
END:DAYLIGHT
BEGIN:STANDARD
TZOFFSETFROM:+0200
TZOFFSETTO:+0100
TZNAME:CET
DTSTART:20221030T010000
END:STANDARD
BEGIN:DAYLIGHT
TZOFFSETFROM:+0100
TZOFFSETTO:+0200
TZNAME:CEST
DTSTART:20230326T010000
END:DAYLIGHT
BEGIN:STANDARD
TZOFFSETFROM:+0200
TZOFFSETTO:+0100
TZNAME:CET
DTSTART:20231029T010000
END:STANDARD
BEGIN:DAYLIGHT
TZOFFSETFROM:+0100
TZOFFSETTO:+0200
TZNAME:CEST
DTSTART:20240331T010000
END:DAYLIGHT
BEGIN:STANDARD
TZOFFSETFROM:+0200
TZOFFSETTO:+0100
TZNAME:CET
DTSTART:20241027T010000
END:STANDARD
BEGIN:DAYLIGHT
TZOFFSETFROM:+0100
TZOFFSETTO:+0200
TZNAME:CEST
DTSTART:20250330T010000
END:DAYLIGHT
BEGIN:STANDARD
TZOFFSETFROM:+0200
TZOFFSETTO:+0100
TZNAME:CET
DTSTART:20251026T010000
END:STANDARD
BEGIN:DAYLIGHT
TZOFFSETFROM:+0100
TZOFFSETTO:+0200
TZNAME:CEST
DTSTART:20260329T010000
END:DAYLIGHT
BEGIN:STANDARD
TZOFFSETFROM:+0200
TZOFFSETTO:+0100
TZNAME:CET
DTSTART:20261025T010000
END:STANDARD
BEGIN:DAYLIGHT
TZOFFSETFROM:+0100
TZOFFSETTO:+0200
TZNAME:CEST
DTSTART:20270328T010000
END:DAYLIGHT
BEGIN:STANDARD
TZOFFSETFROM:+0200
TZOFFSETTO:+0100
TZNAME:CET
DTSTART:20271031T010000
END:STANDARD
END:VTIMEZONE
BEGIN:VEVENT
DTSTART;TZID=Europe/Zurich:20231202T183000
DTEND;TZID=Europe/Zurich:20231202T203000
DTSTAMP:20260422T235651
CREATED:20221116T084244Z
LAST-MODIFIED:20230516T135807Z
UID:10000110-1701541800-1701549000@chpm.ch
SUMMARY:St-Nicolas: L'art de la guerre à travers les figurines
DESCRIPTION:Br Chabloz: Visite commentée de l’exposition au Château de Morges \nProgramme du jour  \n• Histoire militaire et histoire de la tactique\n• Figurines militaires et exposition\n• Visite guidée du château de Morges et de ses musées \nPlus de détails
URL:https://chpm.ch/event/st-nicolas-lart-de-la-guerre-a-travers-les-figurines/
LOCATION:Château de Morges\, Rue du Château 1\, Morges\, 1110\, Suisse
CATEGORIES:Cours d'histoire militaire,Saint-Nicolas
ORGANIZER;CN="CHPM":MAILTO:info@chpm.ch
GEO:46.5068337;6.4968003
X-APPLE-STRUCTURED-LOCATION;VALUE=URI;X-ADDRESS=Château de Morges Rue du Château 1 Morges 1110 Suisse;X-APPLE-RADIUS=500;X-TITLE=Rue du Château 1:geo:6.4968003,46.5068337
END:VEVENT
BEGIN:VEVENT
DTSTART;TZID=Europe/Zurich:20241123T103000
DTEND;TZID=Europe/Zurich:20241123T130000
DTSTAMP:20260422T235651
CREATED:20240930T144451Z
LAST-MODIFIED:20240930T144513Z
UID:10000127-1732357800-1732366800@chpm.ch
SUMMARY:St-Nicolas du CHPM "Histoire militaire et musique"
DESCRIPTION:Evocation d’épreuves\, de succès ou de défaites\nExpression de victoires ou de servitudes\nDéfis musicaux
URL:https://chpm.ch/event/st-nicolas-du-chpm-histoire-militaire-et-musique/
LOCATION:Château de Morges\, Rue du Château 1\, Morges\, 1110\, Suisse
CATEGORIES:Cours d'histoire militaire,Saint-Nicolas
ORGANIZER;CN="CHPM":MAILTO:info@chpm.ch
GEO:46.5068337;6.4968003
X-APPLE-STRUCTURED-LOCATION;VALUE=URI;X-ADDRESS=Château de Morges Rue du Château 1 Morges 1110 Suisse;X-APPLE-RADIUS=500;X-TITLE=Rue du Château 1:geo:6.4968003,46.5068337
END:VEVENT
BEGIN:VEVENT
DTSTART;TZID=Europe/Zurich:20251206T090000
DTEND;TZID=Europe/Zurich:20251206T160000
DTSTAMP:20260422T235651
CREATED:20250319T152851Z
LAST-MODIFIED:20251106T103119Z
UID:10000145-1765011600-1765036800@chpm.ch
SUMMARY:Saint-Nicolas du CHPM 2025
DESCRIPTION:Télécharger le programme ! \n\nIntroduction aux jeux de guerre ;\nAperçu de quelques travaux du groupe infowargame du CHPM ;\nAperçu du projet de wargame sur la planification de l’opération TANNENBAUM qui visait à étudier de manière dynamique le contexte\, les conditions et finalement le déroulement possible d’une telle opération à différents moments de la guerre (1940\, le tournant de 1942/1943 et l’année 1944) ;\nObservations et enseignements issus des séquences de jeu.\nLa journée se terminera par un repas.
URL:https://chpm.ch/event/saint-nicolas-du-chpm-2/
LOCATION:Centre Général Guisan\, Avenue Général Guisan 117-119\, Pully\, 1009\, Suisse
CATEGORIES:Cours d'histoire militaire,Saint-Nicolas
ORGANIZER;CN="CHPM":MAILTO:info@chpm.ch
GEO:46.5063149;6.6446847
X-APPLE-STRUCTURED-LOCATION;VALUE=URI;X-ADDRESS=Centre Général Guisan Avenue Général Guisan 117-119 Pully 1009 Suisse;X-APPLE-RADIUS=500;X-TITLE=Avenue Général Guisan 117-119:geo:6.6446847,46.5063149
END:VEVENT
BEGIN:VEVENT
DTSTART;TZID=Europe/Zurich:20261205T090000
DTEND;TZID=Europe/Zurich:20261205T170000
DTSTAMP:20260422T235651
CREATED:20251031T135835Z
LAST-MODIFIED:20251031T140527Z
UID:10000157-1796461200-1796490000@chpm.ch
SUMMARY:Saint-Nicolas du CHPM 2026
DESCRIPTION:Traditionnellement\, la Saint-Nicolas est une journée d’études organisée par le CHPM sur un thème particulier. Les spécialistes\, chercheurs et étudiants organisent ainsi chaque année un colloque sur un thème retenu.
URL:https://chpm.ch/event/saint-nicolas-du-chpm-2026/
LOCATION:Centre Général Guisan\, Avenue Général Guisan 117-119\, Pully\, 1009\, Suisse
CATEGORIES:Saint-Nicolas
ORGANIZER;CN="CHPM":MAILTO:info@chpm.ch
GEO:46.5063149;6.6446847
X-APPLE-STRUCTURED-LOCATION;VALUE=URI;X-ADDRESS=Centre Général Guisan Avenue Général Guisan 117-119 Pully 1009 Suisse;X-APPLE-RADIUS=500;X-TITLE=Avenue Général Guisan 117-119:geo:6.6446847,46.5063149
END:VEVENT
END:VCALENDAR