BEGIN:VCALENDAR
VERSION:2.0
PRODID:-//Centre d&#039;histoire et de prospective militaires (CHPM) - ECPv6.15.18//NONSGML v1.0//EN
CALSCALE:GREGORIAN
METHOD:PUBLISH
X-ORIGINAL-URL:https://chpm.ch
X-WR-CALDESC:Évènements pour Centre d&#039;histoire et de prospective militaires (CHPM)
REFRESH-INTERVAL;VALUE=DURATION:PT1H
X-Robots-Tag:noindex
X-PUBLISHED-TTL:PT1H
BEGIN:VTIMEZONE
TZID:Europe/Zurich
BEGIN:DAYLIGHT
TZOFFSETFROM:+0100
TZOFFSETTO:+0200
TZNAME:CEST
DTSTART:20230326T010000
END:DAYLIGHT
BEGIN:STANDARD
TZOFFSETFROM:+0200
TZOFFSETTO:+0100
TZNAME:CET
DTSTART:20231029T010000
END:STANDARD
BEGIN:DAYLIGHT
TZOFFSETFROM:+0100
TZOFFSETTO:+0200
TZNAME:CEST
DTSTART:20240331T010000
END:DAYLIGHT
BEGIN:STANDARD
TZOFFSETFROM:+0200
TZOFFSETTO:+0100
TZNAME:CET
DTSTART:20241027T010000
END:STANDARD
BEGIN:DAYLIGHT
TZOFFSETFROM:+0100
TZOFFSETTO:+0200
TZNAME:CEST
DTSTART:20250330T010000
END:DAYLIGHT
BEGIN:STANDARD
TZOFFSETFROM:+0200
TZOFFSETTO:+0100
TZNAME:CET
DTSTART:20251026T010000
END:STANDARD
END:VTIMEZONE
BEGIN:VEVENT
DTSTART;TZID=Europe/Zurich:20241005T094500
DTEND;TZID=Europe/Zurich:20241005T170000
DTSTAMP:20260421T114712
CREATED:20240923T120253Z
LAST-MODIFIED:20240923T121523Z
UID:10000125-1728121500-1728147600@chpm.ch
SUMMARY:Cours d'histoire militaire à Soleure
DESCRIPTION:Développement de la fortification par le Br Michel Chabloz \n0945: Accueil des participants à l’Hôtel Roter Turm\n1030-1230: cours théorique en salle\n1230-1400: Repas de midi en commun\n1400-1615: Cours dans le terrain\n1615-1645: Collation\, fin du cours
URL:https://chpm.ch/event/cours-dhistoire-militaire-a-soleure/
LOCATION:Soleure\, Hauptgasse\, Solothurn\, Solothurn\, 4500\, Switzerland
CATEGORIES:Cours d'histoire militaire
ORGANIZER;CN="CHPM":MAILTO:info@chpm.ch
GEO:47.2075181;7.5368589
X-APPLE-STRUCTURED-LOCATION;VALUE=URI;X-ADDRESS=Soleure Hauptgasse Solothurn Solothurn 4500 Switzerland;X-APPLE-RADIUS=500;X-TITLE=Hauptgasse:geo:7.5368589,47.2075181
END:VEVENT
BEGIN:VEVENT
DTSTART;TZID=Europe/Zurich:20241024T183000
DTEND;TZID=Europe/Zurich:20241024T200000
DTSTAMP:20260421T114712
CREATED:20240930T144106Z
LAST-MODIFIED:20240930T144106Z
UID:10000126-1729794600-1729800000@chpm.ch
SUMMARY:Cours d'histoire militaire "Histoire militaire et peinture"
DESCRIPTION:Reflets de thèmes historiques\n\nGlorification ou stigmatisation de gestes\, de faits et d’événements\nEvocation d’influences ou de ressentis
URL:https://chpm.ch/event/cours-dhistoire-militaire-histoire-militaire-et-peinture/
LOCATION:Centre Général Guisan\, Avenue Général Guisan 117-119\, Pully\, 1009\, Suisse
CATEGORIES:Cours d'histoire militaire
ORGANIZER;CN="CHPM":MAILTO:info@chpm.ch
GEO:46.5063149;6.6446847
X-APPLE-STRUCTURED-LOCATION;VALUE=URI;X-ADDRESS=Centre Général Guisan Avenue Général Guisan 117-119 Pully 1009 Suisse;X-APPLE-RADIUS=500;X-TITLE=Avenue Général Guisan 117-119:geo:6.6446847,46.5063149
END:VEVENT
END:VCALENDAR