BEGIN:VCALENDAR
VERSION:2.0
PRODID:-//Centre d&#039;histoire et de prospective militaires (CHPM) - ECPv6.15.18//NONSGML v1.0//EN
CALSCALE:GREGORIAN
METHOD:PUBLISH
X-ORIGINAL-URL:https://chpm.ch
X-WR-CALDESC:Évènements pour Centre d&#039;histoire et de prospective militaires (CHPM)
REFRESH-INTERVAL;VALUE=DURATION:PT1H
X-Robots-Tag:noindex
X-PUBLISHED-TTL:PT1H
BEGIN:VTIMEZONE
TZID:Europe/Zurich
BEGIN:DAYLIGHT
TZOFFSETFROM:+0100
TZOFFSETTO:+0200
TZNAME:CEST
DTSTART:20220327T010000
END:DAYLIGHT
BEGIN:STANDARD
TZOFFSETFROM:+0200
TZOFFSETTO:+0100
TZNAME:CET
DTSTART:20221030T010000
END:STANDARD
BEGIN:DAYLIGHT
TZOFFSETFROM:+0100
TZOFFSETTO:+0200
TZNAME:CEST
DTSTART:20230326T010000
END:DAYLIGHT
BEGIN:STANDARD
TZOFFSETFROM:+0200
TZOFFSETTO:+0100
TZNAME:CET
DTSTART:20231029T010000
END:STANDARD
BEGIN:DAYLIGHT
TZOFFSETFROM:+0100
TZOFFSETTO:+0200
TZNAME:CEST
DTSTART:20240331T010000
END:DAYLIGHT
BEGIN:STANDARD
TZOFFSETFROM:+0200
TZOFFSETTO:+0100
TZNAME:CET
DTSTART:20241027T010000
END:STANDARD
END:VTIMEZONE
BEGIN:VEVENT
DTSTART;TZID=Europe/Zurich:20231123T183000
DTEND;TZID=Europe/Zurich:20231123T203000
DTSTAMP:20260422T051602
CREATED:20221116T083719Z
LAST-MODIFIED:20231113T095722Z
UID:10000109-1700764200-1700771400@chpm.ch
SUMMARY:Jomini: Mécanismes de transition sur le champ de bataille / Repérage et observation de filiations
DESCRIPTION:A cette occasion\, le Br Chabloz prendra également en considération l’Ukraine et la Palestine. \n(Exemple: Jomini et la pensée militaire américaine)
URL:https://chpm.ch/event/jomini-reperage-et-observation-de-filiations/
LOCATION:Centre Général Guisan\, Avenue Général Guisan 117-119\, Pully\, 1009\, Suisse
CATEGORIES:Cours d'histoire militaire
ORGANIZER;CN="CHPM":MAILTO:info@chpm.ch
GEO:46.5063149;6.6446847
X-APPLE-STRUCTURED-LOCATION;VALUE=URI;X-ADDRESS=Centre Général Guisan Avenue Général Guisan 117-119 Pully 1009 Suisse;X-APPLE-RADIUS=500;X-TITLE=Avenue Général Guisan 117-119:geo:6.6446847,46.5063149
END:VEVENT
END:VCALENDAR