BEGIN:VCALENDAR
VERSION:2.0
PRODID:-//Centre d&#039;histoire et de prospective militaires (CHPM) - ECPv6.15.18//NONSGML v1.0//EN
CALSCALE:GREGORIAN
METHOD:PUBLISH
X-WR-CALNAME:Centre d&#039;histoire et de prospective militaires (CHPM)
X-ORIGINAL-URL:https://chpm.ch
X-WR-CALDESC:Évènements pour Centre d&#039;histoire et de prospective militaires (CHPM)
REFRESH-INTERVAL;VALUE=DURATION:PT1H
X-Robots-Tag:noindex
X-PUBLISHED-TTL:PT1H
BEGIN:VTIMEZONE
TZID:Europe/Zurich
BEGIN:DAYLIGHT
TZOFFSETFROM:+0100
TZOFFSETTO:+0200
TZNAME:CEST
DTSTART:20210328T010000
END:DAYLIGHT
BEGIN:STANDARD
TZOFFSETFROM:+0200
TZOFFSETTO:+0100
TZNAME:CET
DTSTART:20211031T010000
END:STANDARD
BEGIN:DAYLIGHT
TZOFFSETFROM:+0100
TZOFFSETTO:+0200
TZNAME:CEST
DTSTART:20220327T010000
END:DAYLIGHT
BEGIN:STANDARD
TZOFFSETFROM:+0200
TZOFFSETTO:+0100
TZNAME:CET
DTSTART:20221030T010000
END:STANDARD
BEGIN:DAYLIGHT
TZOFFSETFROM:+0100
TZOFFSETTO:+0200
TZNAME:CEST
DTSTART:20230326T010000
END:DAYLIGHT
BEGIN:STANDARD
TZOFFSETFROM:+0200
TZOFFSETTO:+0100
TZNAME:CET
DTSTART:20231029T010000
END:STANDARD
END:VTIMEZONE
BEGIN:VEVENT
DTSTART;TZID=Europe/Zurich:20221029T090000
DTEND;TZID=Europe/Zurich:20221029T170000
DTSTAMP:20260423T003722
CREATED:20221021T140435Z
LAST-MODIFIED:20221021T141548Z
UID:10000103-1667034000-1667062800@chpm.ch
SUMMARY:Wargame Event
DESCRIPTION:221020 Affiche 2 Wargame_CHPM_Of@UniFR
URL:https://chpm.ch/event/wargame-event/
LOCATION:Centre Général Guisan\, Avenue Général Guisan 117-119\, Pully\, 1009\, Suisse
CATEGORIES:Cours d'histoire militaire
ORGANIZER;CN="CHPM":MAILTO:info@chpm.ch
GEO:46.5063149;6.6446847
X-APPLE-STRUCTURED-LOCATION;VALUE=URI;X-ADDRESS=Centre Général Guisan Avenue Général Guisan 117-119 Pully 1009 Suisse;X-APPLE-RADIUS=500;X-TITLE=Avenue Général Guisan 117-119:geo:6.6446847,46.5063149
END:VEVENT
END:VCALENDAR