BEGIN:VCALENDAR
VERSION:2.0
PRODID:-//Centre d&#039;histoire et de prospective militaires (CHPM) - ECPv6.15.18//NONSGML v1.0//EN
CALSCALE:GREGORIAN
METHOD:PUBLISH
X-WR-CALNAME:Centre d&#039;histoire et de prospective militaires (CHPM)
X-ORIGINAL-URL:https://chpm.ch
X-WR-CALDESC:Évènements pour Centre d&#039;histoire et de prospective militaires (CHPM)
REFRESH-INTERVAL;VALUE=DURATION:PT1H
X-Robots-Tag:noindex
X-PUBLISHED-TTL:PT1H
BEGIN:VTIMEZONE
TZID:Europe/Zurich
BEGIN:DAYLIGHT
TZOFFSETFROM:+0100
TZOFFSETTO:+0200
TZNAME:CEST
DTSTART:20190331T010000
END:DAYLIGHT
BEGIN:STANDARD
TZOFFSETFROM:+0200
TZOFFSETTO:+0100
TZNAME:CET
DTSTART:20191027T010000
END:STANDARD
BEGIN:DAYLIGHT
TZOFFSETFROM:+0100
TZOFFSETTO:+0200
TZNAME:CEST
DTSTART:20200329T010000
END:DAYLIGHT
BEGIN:STANDARD
TZOFFSETFROM:+0200
TZOFFSETTO:+0100
TZNAME:CET
DTSTART:20201025T010000
END:STANDARD
BEGIN:DAYLIGHT
TZOFFSETFROM:+0100
TZOFFSETTO:+0200
TZNAME:CEST
DTSTART:20210328T010000
END:DAYLIGHT
BEGIN:STANDARD
TZOFFSETFROM:+0200
TZOFFSETTO:+0100
TZNAME:CET
DTSTART:20211031T010000
END:STANDARD
END:VTIMEZONE
BEGIN:VEVENT
DTSTART;TZID=Europe/Zurich:20200625T183000
DTEND;TZID=Europe/Zurich:20200625T203000
DTSTAMP:20260426T001418
CREATED:20200127T134545Z
LAST-MODIFIED:20200427T071551Z
UID:10000095-1593109800-1593117000@chpm.ch
SUMMARY:SUPPRESSION DU COURS: La géographie militaire en tactique et stratégie
DESCRIPTION:Distinguer les composantes de la géographie militaire \nMettre en évidence et analyser son influence et son intégration dans la décision militaire
URL:https://chpm.ch/event/la-geographie-militaire-en-tactique-et-strategie/
LOCATION:Pavillon Ouest du Centre Général Guisan\, Avenue Général Guisan 117-119\, Pully\, 1009\, Suisse
CATEGORIES:Cours d'histoire militaire
ORGANIZER;CN="CHPM":MAILTO:info@chpm.ch
GEO:46.5063206;6.6449229
X-APPLE-STRUCTURED-LOCATION;VALUE=URI;X-ADDRESS=Pavillon Ouest du Centre Général Guisan Avenue Général Guisan 117-119 Pully 1009 Suisse;X-APPLE-RADIUS=500;X-TITLE=Avenue Général Guisan 117-119:geo:6.6449229,46.5063206
END:VEVENT
END:VCALENDAR